BEGIN:VCALENDAR
VERSION:2.0
PRODID:-//CJE Thérèse-De Blainville - ECPv6.6.4//NONSGML v1.0//EN
CALSCALE:GREGORIAN
METHOD:PUBLISH
X-WR-CALNAME:CJE Thérèse-De Blainville
X-ORIGINAL-URL:https://cje.nelmediareseller2.com
X-WR-CALDESC:Events for CJE Thérèse-De Blainville
REFRESH-INTERVAL;VALUE=DURATION:PT1H
X-Robots-Tag:noindex
X-PUBLISHED-TTL:PT1H
BEGIN:VTIMEZONE
TZID:America/Toronto
BEGIN:DAYLIGHT
TZOFFSETFROM:-0500
TZOFFSETTO:-0400
TZNAME:EDT
DTSTART:20240310T070000
END:DAYLIGHT
BEGIN:STANDARD
TZOFFSETFROM:-0400
TZOFFSETTO:-0500
TZNAME:EST
DTSTART:20241103T060000
END:STANDARD
END:VTIMEZONE
BEGIN:VEVENT
DTSTART;TZID=America/Toronto:20240906T100000
DTEND;TZID=America/Toronto:20240906T120000
DTSTAMP:20260420T144856
CREATED:20240827T005311Z
LAST-MODIFIED:20240827T005311Z
UID:10000530-1725616800-1725624000@cje.nelmediareseller2.com
SUMMARY:Matinée Switch
DESCRIPTION:Matinée Switch avec Charlotte dans la Station CJE!
URL:https://cje.nelmediareseller2.com/calendrier-activites/matinee-switch/
LOCATION:Station CJE
CATEGORIES:Activités ludiques
ATTACH;FMTTYPE=image/jpeg:https://cje.nelmediareseller2.com/wp-content/uploads/2024/08/Parlons-metiers-2-copie.jpg
ORGANIZER;CN="Charlotte Fullum":MAILTO:cfullum@cje-tdb.qc.ca
END:VEVENT
END:VCALENDAR