BEGIN:VCALENDAR
VERSION:2.0
PRODID:-//CJE Thérèse-De Blainville - ECPv6.6.4//NONSGML v1.0//EN
CALSCALE:GREGORIAN
METHOD:PUBLISH
X-WR-CALNAME:CJE Thérèse-De Blainville
X-ORIGINAL-URL:https://cje.nelmediareseller2.com
X-WR-CALDESC:Events for CJE Thérèse-De Blainville
REFRESH-INTERVAL;VALUE=DURATION:PT1H
X-Robots-Tag:noindex
X-PUBLISHED-TTL:PT1H
BEGIN:VTIMEZONE
TZID:America/Toronto
BEGIN:DAYLIGHT
TZOFFSETFROM:-0500
TZOFFSETTO:-0400
TZNAME:EDT
DTSTART:20240310T070000
END:DAYLIGHT
BEGIN:STANDARD
TZOFFSETFROM:-0400
TZOFFSETTO:-0500
TZNAME:EST
DTSTART:20241103T060000
END:STANDARD
END:VTIMEZONE
BEGIN:VEVENT
DTSTART;TZID=America/Toronto:20240925T120000
DTEND;TZID=America/Toronto:20240925T150000
DTSTAMP:20260425T061927
CREATED:20240827T021128Z
LAST-MODIFIED:20240827T021128Z
UID:10000548-1727265600-1727276400@cje.nelmediareseller2.com
SUMMARY:Dîner et sortie aux pommes
DESCRIPTION:Activité extérieure – Cueillette de pommes \nPlaces limitées – Transport inclus – Dîner fourni
URL:https://cje.nelmediareseller2.com/calendrier-activites/diner-et-sortie-aux-pommes/
LOCATION:Québec
CATEGORIES:Activités sportives / sorties
ATTACH;FMTTYPE=image/jpeg:https://cje.nelmediareseller2.com/wp-content/uploads/2024/08/Pommes-.jpg
ORGANIZER;CN="Sophie B%C3%A9dard":MAILTO:sbedard@cje-tdb.qc.ca
END:VEVENT
END:VCALENDAR