BEGIN:VCALENDAR
VERSION:2.0
PRODID:-//CJE Thérèse-De Blainville - ECPv6.6.4//NONSGML v1.0//EN
CALSCALE:GREGORIAN
METHOD:PUBLISH
X-WR-CALNAME:CJE Thérèse-De Blainville
X-ORIGINAL-URL:https://cje.nelmediareseller2.com
X-WR-CALDESC:Events for CJE Thérèse-De Blainville
REFRESH-INTERVAL;VALUE=DURATION:PT1H
X-Robots-Tag:noindex
X-PUBLISHED-TTL:PT1H
BEGIN:VTIMEZONE
TZID:America/Toronto
BEGIN:DAYLIGHT
TZOFFSETFROM:-0500
TZOFFSETTO:-0400
TZNAME:EDT
DTSTART:20240310T070000
END:DAYLIGHT
BEGIN:STANDARD
TZOFFSETFROM:-0400
TZOFFSETTO:-0500
TZNAME:EST
DTSTART:20241103T060000
END:STANDARD
END:VTIMEZONE
BEGIN:VEVENT
DTSTART;TZID=America/Toronto:20240923T133000
DTEND;TZID=America/Toronto:20240923T150000
DTSTAMP:20260425T061919
CREATED:20240827T020436Z
LAST-MODIFIED:20240827T020436Z
UID:10000545-1727098200-1727103600@cje.nelmediareseller2.com
SUMMARY:Atelier sur le sommeil
DESCRIPTION:
URL:https://cje.nelmediareseller2.com/calendrier-activites/atelier-sur-le-sommeil/
LOCATION:Station CJE
CATEGORIES:Me connaitre me comprendre
ATTACH;FMTTYPE=image/jpeg:https://cje.nelmediareseller2.com/wp-content/uploads/2024/08/Atelier-sur-le-sommeil.jpg
ORGANIZER;CN="Jo%C3%ABl Guye-Perrault":MAILTO:jguyeperrault@cje-tdb.qc.ca
END:VEVENT
BEGIN:VEVENT
DTSTART;TZID=America/Toronto:20240923T160000
DTEND;TZID=America/Toronto:20240923T200000
DTSTAMP:20260425T061919
CREATED:20240827T020524Z
LAST-MODIFIED:20240827T020524Z
UID:10000546-1727107200-1727121600@cje.nelmediareseller2.com
SUMMARY:CJE ouvert en soirée
DESCRIPTION:Sur rendez-vous!
URL:https://cje.nelmediareseller2.com/calendrier-activites/cje-ouvert-en-soiree-3/
LOCATION:Québec
ATTACH;FMTTYPE=image/jpeg:https://cje.nelmediareseller2.com/wp-content/uploads/2024/08/CJE-ouvert-en-soiree.jpg
END:VEVENT
END:VCALENDAR