BEGIN:VCALENDAR
VERSION:2.0
PRODID:-//CJE Thérèse-De Blainville - ECPv6.6.4//NONSGML v1.0//EN
CALSCALE:GREGORIAN
METHOD:PUBLISH
X-ORIGINAL-URL:https://cje.nelmediareseller2.com
X-WR-CALDESC:Events for CJE Thérèse-De Blainville
REFRESH-INTERVAL;VALUE=DURATION:PT1H
X-Robots-Tag:noindex
X-PUBLISHED-TTL:PT1H
BEGIN:VTIMEZONE
TZID:America/Toronto
BEGIN:DAYLIGHT
TZOFFSETFROM:-0500
TZOFFSETTO:-0400
TZNAME:EDT
DTSTART:20240310T070000
END:DAYLIGHT
BEGIN:STANDARD
TZOFFSETFROM:-0400
TZOFFSETTO:-0500
TZNAME:EST
DTSTART:20241103T060000
END:STANDARD
END:VTIMEZONE
BEGIN:VEVENT
DTSTART;TZID=America/Toronto:20240919T130000
DTEND;TZID=America/Toronto:20240919T150000
DTSTAMP:20260425T062048
CREATED:20240827T015854Z
LAST-MODIFIED:20240827T015854Z
UID:10000543-1726750800-1726758000@cje.nelmediareseller2.com
SUMMARY:Formation Mes finances\, mes choix
DESCRIPTION:Deviens un.e pro de l’économie \nLe meilleur moyen d’atteindre une pleine autonomie financière est sans contredit de t’inscrire aux ateliers gratuits du programme d’éducation financière Mes finances\, mes choix. \nProchaine formation : Recourir au crédit\, réduire ses dépenses et faire valoir ses droits de consommateurs. \n 
URL:https://cje.nelmediareseller2.com/calendrier-activites/formation-mes-finances-mes-choix/
LOCATION:Station CJE
CATEGORIES:Me connaitre me comprendre
ATTACH;FMTTYPE=image/jpeg:https://cje.nelmediareseller2.com/wp-content/uploads/2024/08/Mes-finances-mes-choix.jpg
ORGANIZER;CN="M%C3%A9lissa Danis":MAILTO:mdanis@cje-tdb.qc.ca
END:VEVENT
END:VCALENDAR